BEGIN:VCALENDAR
VERSION:2.0
PRODID:-//Faithbridge Church - ECPv6.15.15//NONSGML v1.0//EN
CALSCALE:GREGORIAN
METHOD:PUBLISH
X-WR-CALNAME:Faithbridge Church
X-ORIGINAL-URL:https://faithbridgechurch.com
X-WR-CALDESC:Events for Faithbridge Church
REFRESH-INTERVAL;VALUE=DURATION:PT1H
X-Robots-Tag:noindex
X-PUBLISHED-TTL:PT1H
BEGIN:VTIMEZONE
TZID:UTC
BEGIN:STANDARD
TZOFFSETFROM:+0000
TZOFFSETTO:+0000
TZNAME:UTC
DTSTART:20220101T000000
END:STANDARD
END:VTIMEZONE
BEGIN:VEVENT
DTSTART;VALUE=DATE:20230711
DTEND;VALUE=DATE:20230715
DTSTAMP:20260422T084848
CREATED:20221124T234953Z
LAST-MODIFIED:20221124T235031Z
UID:1075-1689033600-1689379199@faithbridgechurch.com
SUMMARY:FAITHBRIDGE KIDS @KIDS CAMP
DESCRIPTION:FAITHBRIDGE KIDS @KIDS CAMP
URL:https://faithbridgechurch.com/event/faithbridge-kids-kids-camp/
END:VEVENT
END:VCALENDAR