BEGIN:VCALENDAR
VERSION:2.0
PRODID:-//Faithbridge Church - ECPv6.15.15//NONSGML v1.0//EN
CALSCALE:GREGORIAN
METHOD:PUBLISH
X-ORIGINAL-URL:https://faithbridgechurch.com
X-WR-CALDESC:Events for Faithbridge Church
REFRESH-INTERVAL;VALUE=DURATION:PT1H
X-Robots-Tag:noindex
X-PUBLISHED-TTL:PT1H
BEGIN:VTIMEZONE
TZID:UTC
BEGIN:STANDARD
TZOFFSETFROM:+0000
TZOFFSETTO:+0000
TZNAME:UTC
DTSTART:20220101T000000
END:STANDARD
END:VTIMEZONE
BEGIN:VEVENT
DTSTART;VALUE=DATE:20230812
DTEND;VALUE=DATE:20230813
DTSTAMP:20260422T070307
CREATED:20221124T235308Z
LAST-MODIFIED:20221124T235308Z
UID:1087-1691798400-1691884799@faithbridgechurch.com
SUMMARY:FAITHBRIDGE BACK TO SCHOOL BASH W/PASADENA MARKET
DESCRIPTION:FAITHBRIDGE BACK TO SCHOOL BASH W/PASADENA MARKET
URL:https://faithbridgechurch.com/event/faithbridge-back-to-school-bash-w-pasadena-market/
END:VEVENT
END:VCALENDAR