BEGIN:VCALENDAR
VERSION:2.0
PRODID:-//Faithbridge Church - ECPv6.15.15//NONSGML v1.0//EN
CALSCALE:GREGORIAN
METHOD:PUBLISH
X-WR-CALNAME:Faithbridge Church
X-ORIGINAL-URL:https://faithbridgechurch.com
X-WR-CALDESC:Events for Faithbridge Church
REFRESH-INTERVAL;VALUE=DURATION:PT1H
X-Robots-Tag:noindex
X-PUBLISHED-TTL:PT1H
BEGIN:VTIMEZONE
TZID:UTC
BEGIN:STANDARD
TZOFFSETFROM:+0000
TZOFFSETTO:+0000
TZNAME:UTC
DTSTART:20220101T000000
END:STANDARD
END:VTIMEZONE
BEGIN:VEVENT
DTSTART;VALUE=DATE:20231004
DTEND;VALUE=DATE:20231007
DTSTAMP:20260422T034029
CREATED:20221124T235844Z
LAST-MODIFIED:20221124T235844Z
UID:1107-1696377600-1696636799@faithbridgechurch.com
SUMMARY:REVIVAL SERVICES
DESCRIPTION:REVIVAL SERVICES
URL:https://faithbridgechurch.com/event/revival-services/
END:VEVENT
BEGIN:VEVENT
DTSTART;VALUE=DATE:20231004
DTEND;VALUE=DATE:20231007
DTSTAMP:20260422T034029
CREATED:20230906T221514Z
LAST-MODIFIED:20230906T221514Z
UID:1427-1696377600-1696636799@faithbridgechurch.com
SUMMARY:RISE NIGHTS
DESCRIPTION:RISE NIGHTS
URL:https://faithbridgechurch.com/event/rise-nights/
END:VEVENT
END:VCALENDAR