BEGIN:VCALENDAR
VERSION:2.0
PRODID:-//Faithbridge Church - ECPv6.15.15//NONSGML v1.0//EN
CALSCALE:GREGORIAN
METHOD:PUBLISH
X-ORIGINAL-URL:https://faithbridgechurch.com
X-WR-CALDESC:Events for Faithbridge Church
REFRESH-INTERVAL;VALUE=DURATION:PT1H
X-Robots-Tag:noindex
X-PUBLISHED-TTL:PT1H
BEGIN:VTIMEZONE
TZID:UTC
BEGIN:STANDARD
TZOFFSETFROM:+0000
TZOFFSETTO:+0000
TZNAME:UTC
DTSTART:20220101T000000
END:STANDARD
END:VTIMEZONE
BEGIN:VEVENT
DTSTART;VALUE=DATE:20231206
DTEND;VALUE=DATE:20231207
DTSTAMP:20260421T232456
CREATED:20230906T221844Z
LAST-MODIFIED:20230906T221857Z
UID:1435-1701820800-1701907199@faithbridgechurch.com
SUMMARY:NO FIRST WEDNESDAY
DESCRIPTION:NO FIRST WEDNESDAY
URL:https://faithbridgechurch.com/event/no-first-wednesday-2/
END:VEVENT
END:VCALENDAR