BEGIN:VCALENDAR
VERSION:2.0
PRODID:-//Faithbridge Church - ECPv6.15.15//NONSGML v1.0//EN
CALSCALE:GREGORIAN
METHOD:PUBLISH
X-WR-CALNAME:Faithbridge Church
X-ORIGINAL-URL:https://faithbridgechurch.com
X-WR-CALDESC:Events for Faithbridge Church
REFRESH-INTERVAL;VALUE=DURATION:PT1H
X-Robots-Tag:noindex
X-PUBLISHED-TTL:PT1H
BEGIN:VTIMEZONE
TZID:UTC
BEGIN:STANDARD
TZOFFSETFROM:+0000
TZOFFSETTO:+0000
TZNAME:UTC
DTSTART:20220101T000000
END:STANDARD
END:VTIMEZONE
BEGIN:VEVENT
DTSTART;VALUE=DATE:20231208
DTEND;VALUE=DATE:20231209
DTSTAMP:20260421T232500
CREATED:20221125T000556Z
LAST-MODIFIED:20221125T000556Z
UID:1135-1701993600-1702079999@faithbridgechurch.com
SUMMARY:ALL CHURCH CAROLING
DESCRIPTION:ALL CHURCH CAROLING
URL:https://faithbridgechurch.com/event/all-church-caroling/
END:VEVENT
END:VCALENDAR