BEGIN:VCALENDAR
VERSION:2.0
PRODID:-//Faithbridge Church - ECPv6.15.15//NONSGML v1.0//EN
CALSCALE:GREGORIAN
METHOD:PUBLISH
X-ORIGINAL-URL:https://faithbridgechurch.com
X-WR-CALDESC:Events for Faithbridge Church
REFRESH-INTERVAL;VALUE=DURATION:PT1H
X-Robots-Tag:noindex
X-PUBLISHED-TTL:PT1H
BEGIN:VTIMEZONE
TZID:UTC
BEGIN:STANDARD
TZOFFSETFROM:+0000
TZOFFSETTO:+0000
TZNAME:UTC
DTSTART:20220101T000000
END:STANDARD
END:VTIMEZONE
BEGIN:VEVENT
DTSTART;VALUE=DATE:20231224
DTEND;VALUE=DATE:20231225
DTSTAMP:20260421T232513
CREATED:20230906T222526Z
LAST-MODIFIED:20230906T222526Z
UID:1437-1703376000-1703462399@faithbridgechurch.com
SUMMARY:CHRISTMAS SERVICE
DESCRIPTION:CHRISTMAS SERVICE
URL:https://faithbridgechurch.com/event/christmas-service/
END:VEVENT
END:VCALENDAR