BEGIN:VCALENDAR
VERSION:2.0
PRODID:-//Faithbridge Church - ECPv6.15.15//NONSGML v1.0//EN
CALSCALE:GREGORIAN
METHOD:PUBLISH
X-ORIGINAL-URL:https://faithbridgechurch.com
X-WR-CALDESC:Events for Faithbridge Church
REFRESH-INTERVAL;VALUE=DURATION:PT1H
X-Robots-Tag:noindex
X-PUBLISHED-TTL:PT1H
BEGIN:VTIMEZONE
TZID:UTC
BEGIN:STANDARD
TZOFFSETFROM:+0000
TZOFFSETTO:+0000
TZNAME:UTC
DTSTART:20220101T000000
END:STANDARD
END:VTIMEZONE
BEGIN:VEVENT
DTSTART;VALUE=DATE:20231227
DTEND;VALUE=DATE:20231228
DTSTAMP:20260421T232512
CREATED:20221125T000706Z
LAST-MODIFIED:20221125T000706Z
UID:1139-1703635200-1703721599@faithbridgechurch.com
SUMMARY:CHURCH OFFICE CLOSED  NO WEDNESDAY GROUPS
DESCRIPTION:CHURCH OFFICE CLOSED \n  \nNO WEDNESDAY GROUPS
URL:https://faithbridgechurch.com/event/church-office-closed-no-wednesday-groups-2/
END:VEVENT
END:VCALENDAR