BEGIN:VCALENDAR
VERSION:2.0
PRODID:-//Faithbridge Church - ECPv6.15.15//NONSGML v1.0//EN
CALSCALE:GREGORIAN
METHOD:PUBLISH
X-WR-CALNAME:Faithbridge Church
X-ORIGINAL-URL:https://faithbridgechurch.com
X-WR-CALDESC:Events for Faithbridge Church
REFRESH-INTERVAL;VALUE=DURATION:PT1H
X-Robots-Tag:noindex
X-PUBLISHED-TTL:PT1H
BEGIN:VTIMEZONE
TZID:UTC
BEGIN:STANDARD
TZOFFSETFROM:+0000
TZOFFSETTO:+0000
TZNAME:UTC
DTSTART:20240101T000000
END:STANDARD
END:VTIMEZONE
BEGIN:VEVENT
DTSTART;TZID=UTC:20250108T190000
DTEND;TZID=UTC:20250108T200000
DTSTAMP:20260421T140208
CREATED:20241221T235332Z
LAST-MODIFIED:20241221T235332Z
UID:1963-1736362800-1736366400@faithbridgechurch.com
SUMMARY:On-Campus Groups Resume
DESCRIPTION:All our our on-campus groups resume. Join us at 7pm every Wednesday here at Faithbridge!
URL:https://faithbridgechurch.com/event/on-campus-groups-resume/
LOCATION:Faithbridge Church\, 4711 Center Street\, Deer Park\, TX\, 77505\, United States
END:VEVENT
END:VCALENDAR