BEGIN:VCALENDAR
VERSION:2.0
PRODID:-//Faithbridge Church - ECPv6.15.15//NONSGML v1.0//EN
CALSCALE:GREGORIAN
METHOD:PUBLISH
X-ORIGINAL-URL:https://faithbridgechurch.com
X-WR-CALDESC:Events for Faithbridge Church
REFRESH-INTERVAL;VALUE=DURATION:PT1H
X-Robots-Tag:noindex
X-PUBLISHED-TTL:PT1H
BEGIN:VTIMEZONE
TZID:UTC
BEGIN:STANDARD
TZOFFSETFROM:+0000
TZOFFSETTO:+0000
TZNAME:UTC
DTSTART:20220101T000000
END:STANDARD
END:VTIMEZONE
BEGIN:VEVENT
DTSTART;VALUE=DATE:20230506
DTEND;VALUE=DATE:20230507
DTSTAMP:20260422T103802
CREATED:20221124T234106Z
LAST-MODIFIED:20221124T234106Z
UID:1045-1683331200-1683417599@faithbridgechurch.com
SUMMARY:Faithbridge’s Women’s Banquet
DESCRIPTION:Faithbridge’s Women’s Banquet
URL:https://faithbridgechurch.com/event/faithbridges-womens-banquet/
END:VEVENT
BEGIN:VEVENT
DTSTART;VALUE=DATE:20230507
DTEND;VALUE=DATE:20230508
DTSTAMP:20260422T103802
CREATED:20221124T234135Z
LAST-MODIFIED:20221124T234135Z
UID:1047-1683417600-1683503999@faithbridgechurch.com
SUMMARY:PARTY W/THE PASTORS
DESCRIPTION:PARTY W/THE PASTORS
URL:https://faithbridgechurch.com/event/party-w-the-pastors-3/
END:VEVENT
BEGIN:VEVENT
DTSTART;VALUE=DATE:20230514
DTEND;VALUE=DATE:20230515
DTSTAMP:20260422T103802
CREATED:20221124T234211Z
LAST-MODIFIED:20221124T234211Z
UID:1049-1684022400-1684108799@faithbridgechurch.com
SUMMARY:MOTHER’S DAY SERVICE
DESCRIPTION:MOTHER’S DAY SERVICE
URL:https://faithbridgechurch.com/event/mothers-day-service/
END:VEVENT
BEGIN:VEVENT
DTSTART;VALUE=DATE:20230521
DTEND;VALUE=DATE:20230522
DTSTAMP:20260422T103802
CREATED:20221124T234235Z
LAST-MODIFIED:20221124T234235Z
UID:1051-1684627200-1684713599@faithbridgechurch.com
SUMMARY:ROCOGNIZE AND HONOR GRADUATES
DESCRIPTION:ROCOGNIZE AND HONOR GRADUATES
URL:https://faithbridgechurch.com/event/rocognize-and-honor-graduates/
END:VEVENT
BEGIN:VEVENT
DTSTART;VALUE=DATE:20230529
DTEND;VALUE=DATE:20230530
DTSTAMP:20260422T103802
CREATED:20221124T234304Z
LAST-MODIFIED:20221124T234304Z
UID:1053-1685318400-1685404799@faithbridgechurch.com
SUMMARY:CHURCH OFFICE CLOSED
DESCRIPTION:CHURCH OFFICE CLOSED
URL:https://faithbridgechurch.com/event/church-office-closed-5/
END:VEVENT
END:VCALENDAR