BEGIN:VCALENDAR
VERSION:2.0
PRODID:-//Faithbridge Church - ECPv6.15.15//NONSGML v1.0//EN
CALSCALE:GREGORIAN
METHOD:PUBLISH
X-ORIGINAL-URL:https://faithbridgechurch.com
X-WR-CALDESC:Events for Faithbridge Church
REFRESH-INTERVAL;VALUE=DURATION:PT1H
X-Robots-Tag:noindex
X-PUBLISHED-TTL:PT1H
BEGIN:VTIMEZONE
TZID:UTC
BEGIN:STANDARD
TZOFFSETFROM:+0000
TZOFFSETTO:+0000
TZNAME:UTC
DTSTART:20220101T000000
END:STANDARD
END:VTIMEZONE
BEGIN:VEVENT
DTSTART;VALUE=DATE:20230604
DTEND;VALUE=DATE:20230605
DTSTAMP:20260422T085639
CREATED:20221124T234332Z
LAST-MODIFIED:20221124T234332Z
UID:1055-1685836800-1685923199@faithbridgechurch.com
SUMMARY:GROW TRACK
DESCRIPTION:GROW TRACK
URL:https://faithbridgechurch.com/event/grow-track-3/
END:VEVENT
BEGIN:VEVENT
DTSTART;VALUE=DATE:20230607
DTEND;VALUE=DATE:20230608
DTSTAMP:20260422T085639
CREATED:20221124T234353Z
LAST-MODIFIED:20221124T234353Z
UID:1057-1686096000-1686182399@faithbridgechurch.com
SUMMARY:1ST WEDNESDAY – P. BRIAN LEADS
DESCRIPTION:1ST WEDNESDAY – P. BRIAN LEADS
URL:https://faithbridgechurch.com/event/1st-wednesday-p-brian-leads-2/
END:VEVENT
BEGIN:VEVENT
DTSTART;VALUE=DATE:20230610
DTEND;VALUE=DATE:20230611
DTSTAMP:20260422T085639
CREATED:20221124T234421Z
LAST-MODIFIED:20221124T234421Z
UID:1059-1686355200-1686441599@faithbridgechurch.com
SUMMARY:PARK OUTREACH – KIDS MIN
DESCRIPTION:PARK OUTREACH – KIDS MIN
URL:https://faithbridgechurch.com/event/park-outreach-kids-min/
END:VEVENT
BEGIN:VEVENT
DTSTART;TZID=UTC:20230616T183000
DTEND;TZID=UTC:20230616T223000
DTSTAMP:20260422T085639
CREATED:20221124T234527Z
LAST-MODIFIED:20221124T234527Z
UID:1061-1686940200-1686954600@faithbridgechurch.com
SUMMARY:MEN’S HUDDLE
DESCRIPTION:MEN’S HUDDLE \n6:30PM
URL:https://faithbridgechurch.com/event/mens-huddle/
END:VEVENT
BEGIN:VEVENT
DTSTART;VALUE=DATE:20230618
DTEND;VALUE=DATE:20230619
DTSTAMP:20260422T085639
CREATED:20221124T234608Z
LAST-MODIFIED:20221124T234608Z
UID:1063-1687046400-1687132799@faithbridgechurch.com
SUMMARY:FATHER’S DAY SERVICE
DESCRIPTION:FATHER’S DAY SERVICE
URL:https://faithbridgechurch.com/event/fathers-day-service/
END:VEVENT
BEGIN:VEVENT
DTSTART;VALUE=DATE:20230619
DTEND;VALUE=DATE:20230620
DTSTAMP:20260422T085639
CREATED:20221124T234654Z
LAST-MODIFIED:20221124T234654Z
UID:1065-1687132800-1687219199@faithbridgechurch.com
SUMMARY:JUNETEENTH – OFFICE CLOSED
DESCRIPTION:JUNETEENTH – OFFICE CLOSED
URL:https://faithbridgechurch.com/event/juneteenth-office-closed/
END:VEVENT
END:VCALENDAR