BEGIN:VCALENDAR
VERSION:2.0
PRODID:-//Faithbridge Church - ECPv6.15.15//NONSGML v1.0//EN
CALSCALE:GREGORIAN
METHOD:PUBLISH
X-ORIGINAL-URL:https://faithbridgechurch.com
X-WR-CALDESC:Events for Faithbridge Church
REFRESH-INTERVAL;VALUE=DURATION:PT1H
X-Robots-Tag:noindex
X-PUBLISHED-TTL:PT1H
BEGIN:VTIMEZONE
TZID:UTC
BEGIN:STANDARD
TZOFFSETFROM:+0000
TZOFFSETTO:+0000
TZNAME:UTC
DTSTART:20220101T000000
END:STANDARD
END:VTIMEZONE
BEGIN:VEVENT
DTSTART;VALUE=DATE:20231101
DTEND;VALUE=DATE:20231102
DTSTAMP:20260421T232513
CREATED:20221125T000011Z
LAST-MODIFIED:20221125T000011Z
UID:1113-1698796800-1698883199@faithbridgechurch.com
SUMMARY:1ST WEDNESDAY P. BRIAN PREACHES
DESCRIPTION:1ST WEDNESDAY P. BRIAN PREACHES
URL:https://faithbridgechurch.com/event/1st-wednesday-p-brian-preaches/
END:VEVENT
BEGIN:VEVENT
DTSTART;VALUE=DATE:20231101
DTEND;VALUE=DATE:20231102
DTSTAMP:20260421T232513
CREATED:20230906T221637Z
LAST-MODIFIED:20230906T221637Z
UID:1429-1698796800-1698883199@faithbridgechurch.com
SUMMARY:FIRST WEDNESDAY
DESCRIPTION:FIRST WEDNESDAY
URL:https://faithbridgechurch.com/event/first-wednesday/
END:VEVENT
BEGIN:VEVENT
DTSTART;VALUE=DATE:20231103
DTEND;VALUE=DATE:20231104
DTSTAMP:20260421T232513
CREATED:20221125T000038Z
LAST-MODIFIED:20221125T000038Z
UID:1115-1698969600-1699055999@faithbridgechurch.com
SUMMARY:FAITHBRIDGE KIDS MOVIE NIGHT
DESCRIPTION:FAITHBRIDGE KIDS MOVIE NIGHT
URL:https://faithbridgechurch.com/event/faithbridge-kids-movie-night/
END:VEVENT
BEGIN:VEVENT
DTSTART;VALUE=DATE:20231105
DTEND;VALUE=DATE:20231106
DTSTAMP:20260421T232513
CREATED:20221125T000104Z
LAST-MODIFIED:20221125T000104Z
UID:1117-1699142400-1699228799@faithbridgechurch.com
SUMMARY:GROW TRACK   RECOGNIZE VETERANS
DESCRIPTION:GROW TRACK \n  \n  \nRECOGNIZE VETERANS
URL:https://faithbridgechurch.com/event/grow-track-recognize-veterans/
END:VEVENT
BEGIN:VEVENT
DTSTART;VALUE=DATE:20231111
DTEND;VALUE=DATE:20231112
DTSTAMP:20260421T232513
CREATED:20221125T000131Z
LAST-MODIFIED:20221125T000131Z
UID:1119-1699660800-1699747199@faithbridgechurch.com
SUMMARY:PASADENA MARKET
DESCRIPTION:PASADENA MARKET
URL:https://faithbridgechurch.com/event/pasadena-market-2/
END:VEVENT
BEGIN:VEVENT
DTSTART;VALUE=DATE:20231111
DTEND;VALUE=DATE:20231112
DTSTAMP:20260421T232513
CREATED:20230906T221738Z
LAST-MODIFIED:20230906T221738Z
UID:1431-1699660800-1699747199@faithbridgechurch.com
SUMMARY:PASADENA MARKET
DESCRIPTION:PASADENA MARKET
URL:https://faithbridgechurch.com/event/pasadena-market-3/
END:VEVENT
BEGIN:VEVENT
DTSTART;VALUE=DATE:20231112
DTEND;VALUE=DATE:20231113
DTSTAMP:20260421T232513
CREATED:20221125T000201Z
LAST-MODIFIED:20221125T000201Z
UID:1121-1699747200-1699833599@faithbridgechurch.com
SUMMARY:THANKSGIVING MEAL FOR THE HOMELESS
DESCRIPTION:THANKSGIVING MEAL FOR THE HOMELESS
URL:https://faithbridgechurch.com/event/thanksgiving-meal-for-the-homeless/
END:VEVENT
BEGIN:VEVENT
DTSTART;VALUE=DATE:20231120
DTEND;VALUE=DATE:20231122
DTSTAMP:20260421T232513
CREATED:20221125T000239Z
LAST-MODIFIED:20221125T000239Z
UID:1123-1700438400-1700611199@faithbridgechurch.com
SUMMARY:CHURCH OFFICE CLOSED
DESCRIPTION:CHURCH OFFICE CLOSED
URL:https://faithbridgechurch.com/event/church-office-closed-10/
END:VEVENT
BEGIN:VEVENT
DTSTART;VALUE=DATE:20231122
DTEND;VALUE=DATE:20231123
DTSTAMP:20260421T232513
CREATED:20221125T000315Z
LAST-MODIFIED:20221125T000315Z
UID:1125-1700611200-1700697599@faithbridgechurch.com
SUMMARY:CHURCH OFFICE CLOSED  NO WEDNESDAY GROUPS
DESCRIPTION:CHURCH OFFICE CLOSED \n  \nNO WEDNESDAY GROUPS
URL:https://faithbridgechurch.com/event/church-office-closed-no-wednesday-groups/
END:VEVENT
BEGIN:VEVENT
DTSTART;VALUE=DATE:20231122
DTEND;VALUE=DATE:20231123
DTSTAMP:20260421T232513
CREATED:20230906T221809Z
LAST-MODIFIED:20230906T221809Z
UID:1433-1700611200-1700697599@faithbridgechurch.com
SUMMARY:NO GROUPS
DESCRIPTION:NO GROUPS
URL:https://faithbridgechurch.com/event/no-groups/
END:VEVENT
BEGIN:VEVENT
DTSTART;VALUE=DATE:20231123
DTEND;VALUE=DATE:20231124
DTSTAMP:20260421T232513
CREATED:20221125T000338Z
LAST-MODIFIED:20221125T000338Z
UID:1127-1700697600-1700783999@faithbridgechurch.com
SUMMARY:CHURCH OFFICE CLOSED
DESCRIPTION:CHURCH OFFICE CLOSED
URL:https://faithbridgechurch.com/event/church-office-closed-11/
END:VEVENT
END:VCALENDAR