BEGIN:VCALENDAR
VERSION:2.0
PRODID:-//Faithbridge Church - ECPv6.15.15//NONSGML v1.0//EN
CALSCALE:GREGORIAN
METHOD:PUBLISH
X-ORIGINAL-URL:https://faithbridgechurch.com
X-WR-CALDESC:Events for Faithbridge Church
REFRESH-INTERVAL;VALUE=DURATION:PT1H
X-Robots-Tag:noindex
X-PUBLISHED-TTL:PT1H
BEGIN:VTIMEZONE
TZID:UTC
BEGIN:STANDARD
TZOFFSETFROM:+0000
TZOFFSETTO:+0000
TZNAME:UTC
DTSTART:20230101T000000
END:STANDARD
END:VTIMEZONE
BEGIN:VEVENT
DTSTART;TZID=UTC:20241222T090000
DTEND;TZID=UTC:20241222T123000
DTSTAMP:20260421T083909
CREATED:20240907T171556Z
LAST-MODIFIED:20240907T171556Z
UID:1845-1734858000-1734870600@faithbridgechurch.com
SUMMARY:Christmas at Faithbridge
DESCRIPTION:
URL:https://faithbridgechurch.com/event/christmas-at-faithbridge/
LOCATION:Faithbridge Church\, 4711 Center Street\, Deer Park\, TX\, 77505\, United States
END:VEVENT
BEGIN:VEVENT
DTSTART;VALUE=DATE:20241225
DTEND;VALUE=DATE:20241226
DTSTAMP:20260421T083909
CREATED:20241221T234936Z
LAST-MODIFIED:20241221T234936Z
UID:1959-1735084800-1735171199@faithbridgechurch.com
SUMMARY:No On-Campus Groups
DESCRIPTION:Groups will resume January 8th\, 2025.
URL:https://faithbridgechurch.com/event/no-on-campus-groups/
LOCATION:Faithbridge Church\, 4711 Center Street\, Deer Park\, TX\, 77505\, United States
END:VEVENT
END:VCALENDAR